BEGIN:VCALENDAR
VERSION:2.0
PRODID:SchoolNow
CALSCALE:GREGORIAN
BEGIN:VEVENT
UID:79ae0156-046e-11ee-9fe0-0a708002cd73
DTSTAMP:20230606T133142Z
SUMMARY:School Committee Meeting - Hybrid Meeting/In Person at Savage Cente
 r - see Schedule page for details
URL;VALUE=URI:https://www.norwood.k12.ma.us/about/calendar/4357410/school-c
 ommittee-meeting-hybrid-meeting-in-person-at-savage-center-see-schedule-pa
 ge-for-details-clone-clone-clone
DTSTART:20240111T000000Z
DTEND:20240111T010000Z
END:VEVENT
END:VCALENDAR
