BEGIN:VCALENDAR
VERSION:2.0
PRODID:SchoolNow
CALSCALE:GREGORIAN
BEGIN:VEVENT
UID:b2f4f6ea-046e-11ee-82df-0a708002cd73
DTSTAMP:20240205T172136Z
SUMMARY:School Committee Meeting - Hybrid Meeting/In Person at Savage Cente
 r - see Schedule page for details
URL;VALUE=URI:https://www.norwood.k12.ma.us/about/calendar/4357414/school-c
 ommittee-meeting-hybrid-meeting-in-person-at-savage-center-see-schedule-pa
 ge-for-details-clone-clone-clone-clone-clone
DTSTART:20240208T000000Z
DTEND:20240208T010000Z
END:VEVENT
END:VCALENDAR
