BEGIN:VCALENDAR
VERSION:2.0
PRODID:SchoolNow
CALSCALE:GREGORIAN
BEGIN:VEVENT
UID:11b7b528-046f-11ee-a696-0a708002cd73
DTSTAMP:20240412T182330Z
SUMMARY:School Committee Meeting - School Choice Public Hearing - Hybrid Me
 eting/In Person at Savage Center - see Schedule page for details
URL;VALUE=URI:https://www.norwood.k12.ma.us/about/calendar/4357426/school-c
 ommittee-meeting-hybrid-meeting-in-person-at-savage-center-see-schedule-pa
 ge-for-details-clone-clone-clone-clone-clone-clone-clone-clone-clone-clone
DTSTART:20240501T230000Z
DTEND:20240502T000000Z
END:VEVENT
END:VCALENDAR
