BEGIN:VCALENDAR
VERSION:2.0
PRODID:SchoolNow
CALSCALE:GREGORIAN
BEGIN:VEVENT
UID:1a2e6454-046f-11ee-821f-0a708002cd73
DTSTAMP:20230606T133612Z
SUMMARY:School Committee Meeting - Hybrid Meeting/In Person at Savage Cente
 r - see Schedule page for details
URL;VALUE=URI:https://www.norwood.k12.ma.us/about/calendar/4357428/school-c
 ommittee-meeting-hybrid-meeting-in-person-at-savage-center-see-schedule-pa
 ge-for-details-clone-clone-clone-clone-clone-clone-clone-clone-clone-clone
 -clone
DTSTART:20240515T230000Z
DTEND:20240516T000000Z
END:VEVENT
END:VCALENDAR
