BEGIN:VCALENDAR
VERSION:2.0
PRODID:SchoolNow
CALSCALE:GREGORIAN
BEGIN:VEVENT
UID:294c72b8-45ca-11ee-a456-0212038e33f9
DTSTAMP:20230828T174147Z
SUMMARY:No School - Holiday - New Year's Day
URL;VALUE=URI:https://www.norwood.k12.ma.us/about/calendar/4643564/no-schoo
 l-holiday-new-years-day
DTSTART;VALUE=DATE:20240101
DTEND;VALUE=DATE:20240102
END:VEVENT
END:VCALENDAR
