BEGIN:VCALENDAR
VERSION:2.0
PRODID:SchoolNow
CALSCALE:GREGORIAN
BEGIN:VEVENT
UID:32698c5a-45ca-11ee-b815-0a58a9feac02
DTSTAMP:20230828T174202Z
SUMMARY:No School - Professional Development
URL;VALUE=URI:https://www.norwood.k12.ma.us/about/calendar/4643565/no-schoo
 l-professional-development
DTSTART;VALUE=DATE:20240102
DTEND;VALUE=DATE:20240103
END:VEVENT
END:VCALENDAR
