BEGIN:VCALENDAR
VERSION:2.0
PRODID:SchoolNow
CALSCALE:GREGORIAN
BEGIN:VEVENT
UID:4579cbb6-45ca-11ee-a31d-0abb20ff8b43
DTSTAMP:20230828T174234Z
SUMMARY:No School - Holiday - Dr. Martin Luther King Jr. Day
URL;VALUE=URI:https://www.norwood.k12.ma.us/about/calendar/4643566/no-schoo
 l-holiday-dr-martin-luther-king-jr-day
DTSTART;VALUE=DATE:20240115
DTEND;VALUE=DATE:20240116
END:VEVENT
END:VCALENDAR
