BEGIN:VCALENDAR
VERSION:2.0
PRODID:SchoolNow
CALSCALE:GREGORIAN
BEGIN:VEVENT
UID:56c993ba-45ca-11ee-88b4-0a58a9feac02
DTSTAMP:20230828T174303Z
SUMMARY:Early Release All Schools
URL;VALUE=URI:https://www.norwood.k12.ma.us/about/calendar/4643567/early-re
 lease-all-schools
DTSTART;VALUE=DATE:20240123
DTEND;VALUE=DATE:20240124
END:VEVENT
END:VCALENDAR
