BEGIN:VCALENDAR
VERSION:2.0
PRODID:SchoolNow
CALSCALE:GREGORIAN
BEGIN:VEVENT
UID:6bacc9dc-45ca-11ee-a06e-0e5a7ad4091b
DTSTAMP:20230828T174338Z
SUMMARY:Early Release All Schools
URL;VALUE=URI:https://www.norwood.k12.ma.us/about/calendar/4643568/early-re
 lease-all-schools
DTSTART;VALUE=DATE:20240207
DTEND;VALUE=DATE:20240208
END:VEVENT
END:VCALENDAR
