BEGIN:VCALENDAR
VERSION:2.0
PRODID:SchoolNow
CALSCALE:GREGORIAN
BEGIN:VEVENT
UID:74ffbb52-45ca-11ee-a060-0a58a9feac02
DTSTAMP:20230828T174511Z
SUMMARY:Early Release All Schools
URL;VALUE=URI:https://www.norwood.k12.ma.us/about/calendar/4643569/early-re
 lease-all-schools
DTSTART;VALUE=DATE:20240307
DTEND;VALUE=DATE:20240308
END:VEVENT
END:VCALENDAR
