BEGIN:VCALENDAR
VERSION:2.0
PRODID:SchoolNow
CALSCALE:GREGORIAN
BEGIN:VEVENT
UID:8433a660-45ca-11ee-9974-024128c4ca91
DTSTAMP:20230828T174419Z
SUMMARY:No School February Break
URL;VALUE=URI:https://www.norwood.k12.ma.us/about/calendar/4643570/no-schoo
 l-february-break
DTSTART;VALUE=DATE:20240219
DTEND;VALUE=DATE:20240224
END:VEVENT
END:VCALENDAR
