BEGIN:VCALENDAR
VERSION:2.0
PRODID:SchoolNow
CALSCALE:GREGORIAN
BEGIN:VEVENT
UID:b013c314-45ca-11ee-a505-024128c4ca91
DTSTAMP:20230828T174533Z
SUMMARY:No School - Holiday - Good Friday
URL;VALUE=URI:https://www.norwood.k12.ma.us/about/calendar/4643571/no-schoo
 l-holiday-good-friday
DTSTART;VALUE=DATE:20240329
DTEND;VALUE=DATE:20240330
END:VEVENT
END:VCALENDAR
