BEGIN:VCALENDAR
VERSION:2.0
PRODID:SchoolNow
CALSCALE:GREGORIAN
BEGIN:VEVENT
UID:cedbfae6-45ca-11ee-bb7c-0a58a9feac02
DTSTAMP:20230828T174625Z
SUMMARY:No School April Break
URL;VALUE=URI:https://www.norwood.k12.ma.us/about/calendar/4643572/no-schoo
 l-april-break
DTSTART;VALUE=DATE:20240415
DTEND;VALUE=DATE:20240420
END:VEVENT
END:VCALENDAR
