BEGIN:VCALENDAR
VERSION:2.0
PRODID:SchoolNow
CALSCALE:GREGORIAN
BEGIN:VEVENT
UID:dc24225a-45ca-11ee-b889-0adb1134015d
DTSTAMP:20230828T174647Z
SUMMARY:Early Release All Schools
URL;VALUE=URI:https://www.norwood.k12.ma.us/about/calendar/4643573/early-re
 lease-all-schools
DTSTART;VALUE=DATE:20240503
DTEND;VALUE=DATE:20240504
END:VEVENT
END:VCALENDAR
