BEGIN:VCALENDAR
VERSION:2.0
PRODID:SchoolNow
CALSCALE:GREGORIAN
BEGIN:VEVENT
UID:ec9c5c24-45ca-11ee-ad5b-0a58a9feac02
DTSTAMP:20230828T174727Z
SUMMARY:WILLETT KINDERGARTEN ONLY - No School - Kindergarten Screening
URL;VALUE=URI:https://www.norwood.k12.ma.us/about/calendar/4643574/willett-
 kindergarten-only-no-school-kindergarten-screening
DTSTART;VALUE=DATE:20240509
DTEND;VALUE=DATE:20240511
END:VEVENT
END:VCALENDAR
