BEGIN:VCALENDAR
VERSION:2.0
PRODID:SchoolNow
CALSCALE:GREGORIAN
BEGIN:VEVENT
UID:ffdabbf0-45ca-11ee-a278-0a58a9feac02
DTSTAMP:20230828T174747Z
SUMMARY:No School - Holiday - Memorial Day
URL;VALUE=URI:https://www.norwood.k12.ma.us/about/calendar/4643575/no-schoo
 l-holiday-memorial-day
DTSTART;VALUE=DATE:20240527
DTEND;VALUE=DATE:20240528
END:VEVENT
END:VCALENDAR
