BEGIN:VCALENDAR
VERSION:2.0
PRODID:SchoolNow
CALSCALE:GREGORIAN
BEGIN:VEVENT
UID:0cd101b6-45cb-11ee-b48e-0a58a9feac02
DTSTAMP:20230828T174809Z
SUMMARY:NHS Class Day - Tentative
URL;VALUE=URI:https://www.norwood.k12.ma.us/about/calendar/4643576/nhs-clas
 s-day-tentative
DTSTART;VALUE=DATE:20240531
DTEND;VALUE=DATE:20240601
END:VEVENT
END:VCALENDAR
