BEGIN:VCALENDAR
VERSION:2.0
PRODID:SchoolNow
CALSCALE:GREGORIAN
BEGIN:VEVENT
UID:183e3f28-45cb-11ee-8172-0a58a9feac02
DTSTAMP:20230828T174828Z
SUMMARY:NHS Graduation
URL;VALUE=URI:https://www.norwood.k12.ma.us/about/calendar/4643577/nhs-grad
 uation
DTSTART;VALUE=DATE:20240602
DTEND;VALUE=DATE:20240603
END:VEVENT
END:VCALENDAR
