BEGIN:VCALENDAR
VERSION:2.0
PRODID:SchoolNow
CALSCALE:GREGORIAN
BEGIN:VEVENT
UID:25f8c58e-45cb-11ee-ba9c-0a58a9feac02
DTSTAMP:20230828T174851Z
SUMMARY:No School - Holiday - Juneteenth
URL;VALUE=URI:https://www.norwood.k12.ma.us/about/calendar/4643578/no-schoo
 l-holiday-juneteenth
DTSTART;VALUE=DATE:20240619
DTEND;VALUE=DATE:20240620
END:VEVENT
END:VCALENDAR
