BEGIN:VCALENDAR
VERSION:2.0
PRODID:SchoolNow
CALSCALE:GREGORIAN
BEGIN:VEVENT
UID:521b61bc-45cb-11ee-bc20-0a58a9feac02
DTSTAMP:20240621T121154Z
SUMMARY:180th School Day - Early Release for Students Only
URL;VALUE=URI:https://www.norwood.k12.ma.us/about/calendar/4643579/180th-sc
 hool-day-early-release-for-students-only
DTSTART;VALUE=DATE:20240621
DTEND;VALUE=DATE:20240622
END:VEVENT
END:VCALENDAR
