BEGIN:VCALENDAR
VERSION:2.0
PRODID:SchoolNow
CALSCALE:GREGORIAN
BEGIN:VEVENT
UID:637caa38-45cb-11ee-90bf-0a58a9feac02
DTSTAMP:20230828T175034Z
SUMMARY:185th School Day - Additional 5 days if needed
URL;VALUE=URI:https://www.norwood.k12.ma.us/about/calendar/4643580/185th-sc
 hool-day-additional-5-days-if-needed
DTSTART;VALUE=DATE:20240627
DTEND;VALUE=DATE:20240628
END:VEVENT
END:VCALENDAR
