BEGIN:VCALENDAR
VERSION:2.0
PRODID:SchoolNow
CALSCALE:GREGORIAN
BEGIN:VEVENT
UID:1f382c8e-4694-11ee-87e5-0a58a9feac02
DTSTAMP:20230829T174728Z
SUMMARY:School Committee Budget Sub Committee - REMOTE MEETING ONLINE
URL;VALUE=URI:https://www.norwood.k12.ma.us/about/calendar/4648232/school-c
 ommittee-budget-sub-committee-remote-meeting-online-clone-clone-clone-clon
 e-clone-clone-clone-clone
DTSTART:20240118T173000Z
DTEND:20240118T193000Z
END:VEVENT
END:VCALENDAR
