BEGIN:VCALENDAR
VERSION:2.0
PRODID:SchoolNow
CALSCALE:GREGORIAN
BEGIN:VEVENT
UID:28a42df4-4694-11ee-ac06-0a58a9feac02
DTSTAMP:20230829T174744Z
SUMMARY:School Committee Budget Sub Committee - REMOTE MEETING ONLINE
URL;VALUE=URI:https://www.norwood.k12.ma.us/about/calendar/4648234/school-c
 ommittee-budget-sub-committee-remote-meeting-online-clone-clone-clone-clon
 e-clone-clone-clone-clone-clone
DTSTART:20240201T173000Z
DTEND:20240201T193000Z
END:VEVENT
END:VCALENDAR
