BEGIN:VCALENDAR
VERSION:2.0
PRODID:SchoolNow
CALSCALE:GREGORIAN
BEGIN:VEVENT
UID:3317eb0e-4694-11ee-a95f-02be44d9d3ad
DTSTAMP:20230829T174802Z
SUMMARY:School Committee Budget Sub Committee - REMOTE MEETING ONLINE
URL;VALUE=URI:https://www.norwood.k12.ma.us/about/calendar/4648236/school-c
 ommittee-budget-sub-committee-remote-meeting-online-clone-clone-clone-clon
 e-clone-clone-clone-clone-clone-clone
DTSTART:20240208T173000Z
DTEND:20240208T193000Z
END:VEVENT
END:VCALENDAR
