BEGIN:VCALENDAR
VERSION:2.0
PRODID:SchoolNow
CALSCALE:GREGORIAN
BEGIN:VEVENT
UID:66822a4a-4694-11ee-8227-0abd52b1e4d9
DTSTAMP:20230829T174928Z
SUMMARY:School Committee Budget Sub Committee - REMOTE MEETING ONLINE
URL;VALUE=URI:https://www.norwood.k12.ma.us/about/calendar/4648246/school-c
 ommittee-budget-sub-committee-remote-meeting-online-clone-clone-clone-clon
 e-clone-clone-clone-clone-clone-clone-clone-clone-clone-clone-clone
DTSTART:20240425T163000Z
DTEND:20240425T183000Z
END:VEVENT
END:VCALENDAR
