BEGIN:VCALENDAR
VERSION:2.0
PRODID:SchoolNow
CALSCALE:GREGORIAN
BEGIN:VEVENT
UID:8def1b06-4694-11ee-8d82-02cb68def28f
DTSTAMP:20230829T175034Z
SUMMARY:School Committee Budget Sub Committee - REMOTE MEETING ONLINE
URL;VALUE=URI:https://www.norwood.k12.ma.us/about/calendar/4648366/school-c
 ommittee-budget-sub-committee-remote-meeting-online-clone-clone-clone-clon
 e-clone-clone-clone-clone-clone-clone-clone-clone-clone-clone-clone-clone-
 clone-clone-clone
DTSTART:20240613T163000Z
DTEND:20240613T183000Z
END:VEVENT
END:VCALENDAR
