BEGIN:VCALENDAR
VERSION:2.0
PRODID:SchoolNow
CALSCALE:GREGORIAN
BEGIN:VEVENT
UID:397c7ae0-4695-11ee-bab0-029c519d0b5b
DTSTAMP:20230829T175522Z
SUMMARY:School Committee Policy Sub Committee - REMOTE MEETING ONLINE
URL;VALUE=URI:https://www.norwood.k12.ma.us/about/calendar/4648575/school-c
 ommittee-policy-sub-committee-remote-meeting-online-clone-clone-clone-clon
 e-clone-clone-clone-clone
DTSTART:20240123T160000Z
DTEND:20240123T173000Z
END:VEVENT
END:VCALENDAR
