BEGIN:VCALENDAR
VERSION:2.0
PRODID:SchoolNow
CALSCALE:GREGORIAN
BEGIN:VEVENT
UID:4da66422-4695-11ee-bf02-0a58a9feac02
DTSTAMP:20230829T175556Z
SUMMARY:School Committee Policy Sub Committee - REMOTE MEETING ONLINE
URL;VALUE=URI:https://www.norwood.k12.ma.us/about/calendar/4648613/school-c
 ommittee-policy-sub-committee-remote-meeting-online-clone-clone-clone-clon
 e-clone-clone-clone-clone-clone-clone
DTSTART:20240305T160000Z
DTEND:20240305T173000Z
END:VEVENT
END:VCALENDAR
