BEGIN:VCALENDAR
VERSION:2.0
PRODID:SchoolNow
CALSCALE:GREGORIAN
BEGIN:VEVENT
UID:67e49fd4-4695-11ee-8d1f-02035be1c3d9
DTSTAMP:20240402T113921Z
SUMMARY:CANCELLED-School Committee Policy Sub Committee - REMOTE MEETING ON
 LINE
URL;VALUE=URI:https://www.norwood.k12.ma.us/about/calendar/4649769/school-c
 ommittee-policy-sub-committee-remote-meeting-online-clone-clone-clone-clon
 e-clone-clone-clone-clone-clone-clone-clone-clone
DTSTART:20240402T150000Z
DTEND:20240402T163000Z
END:VEVENT
END:VCALENDAR
