BEGIN:VCALENDAR
VERSION:2.0
PRODID:SchoolNow
CALSCALE:GREGORIAN
BEGIN:VEVENT
UID:8609bab2-4695-11ee-947e-0e84a383af55
DTSTAMP:20230829T175730Z
SUMMARY:School Committee Policy Sub Committee - REMOTE MEETING ONLINE
URL;VALUE=URI:https://www.norwood.k12.ma.us/about/calendar/4649793/school-c
 ommittee-policy-sub-committee-remote-meeting-online-clone-clone-clone-clon
 e-clone-clone-clone-clone-clone-clone-clone-clone-clone-clone-clone
DTSTART:20240528T150000Z
DTEND:20240528T163000Z
END:VEVENT
END:VCALENDAR
