BEGIN:VCALENDAR
VERSION:2.0
PRODID:SchoolNow
CALSCALE:GREGORIAN
BEGIN:VEVENT
UID:b4237912-ab01-11ee-b283-0a58a9feac02
DTSTAMP:20240104T130350Z
SUMMARY:School Committee Middle School Building Committee Meeting at Savage
  Center
URL;VALUE=URI:https://www.norwood.k12.ma.us/about/calendar/5102516/school-c
 ommittee-middle-school-building-committee-meeting-at-savage-center
DTSTART:20240108T213000Z
DTEND:20240108T223000Z
END:VEVENT
END:VCALENDAR
