BEGIN:VCALENDAR
VERSION:2.0
PRODID:SchoolNow
CALSCALE:GREGORIAN
BEGIN:VEVENT
UID:c6db8c0c-ab01-11ee-9457-0a58a9feac02
DTSTAMP:20240104T130421Z
SUMMARY:School Committee Middle School Building Committee Meeting at Savage
  Center
URL;VALUE=URI:https://www.norwood.k12.ma.us/about/calendar/5102518/school-c
 ommittee-middle-school-building-committee-meeting-at-savage-center
DTSTART:20240212T213000Z
DTEND:20240212T223000Z
END:VEVENT
END:VCALENDAR
