BEGIN:VCALENDAR
VERSION:2.0
PRODID:SchoolNow
CALSCALE:GREGORIAN
BEGIN:VEVENT
UID:e78865f6-ab01-11ee-a207-0a58a9feac02
DTSTAMP:20240104T130516Z
SUMMARY:School Committee Middle School Building Committee Meeting at Savage
  Center
URL;VALUE=URI:https://www.norwood.k12.ma.us/about/calendar/5102522/school-c
 ommittee-middle-school-building-committee-meeting-at-savage-center
DTSTART:20240408T203000Z
DTEND:20240408T213000Z
END:VEVENT
END:VCALENDAR
