BEGIN:VCALENDAR
VERSION:2.0
PRODID:SchoolNow
CALSCALE:GREGORIAN
BEGIN:VEVENT
UID:df644faa-b9ef-11ee-b9e0-0ad557b2c6af
DTSTAMP:20240123T130359Z
SUMMARY:School Committee - Student Advisory Committee - In Person - Norwood
  High School
URL;VALUE=URI:https://www.norwood.k12.ma.us/about/calendar/5197401/school-c
 ommittee-student-advisory-committee-in-person-norwood-high-school
DTSTART:20240125T152200Z
DTEND:20240125T161900Z
END:VEVENT
END:VCALENDAR
