BEGIN:VCALENDAR
VERSION:2.0
PRODID:SchoolNow
CALSCALE:GREGORIAN
BEGIN:VEVENT
UID:0af7a364-c06d-11ee-ada3-021098affe25
DTSTAMP:20240131T191506Z
SUMMARY:School Committee-Superintendent Search-Finalist Interviews-Savage C
 enter
URL;VALUE=URI:https://www.norwood.k12.ma.us/about/calendar/5236941/school-c
 ommittee-superintendent-search-finalist-interviews-savage-center
DTSTART:20240203T153000Z
DTEND:20240203T185000Z
END:VEVENT
END:VCALENDAR
