BEGIN:VCALENDAR
VERSION:2.0
PRODID:SchoolNow
CALSCALE:GREGORIAN
BEGIN:VEVENT
UID:a6b3d52e-d4b4-11ee-b405-0a58a9feac02
DTSTAMP:20240226T143814Z
SUMMARY:School Committee Executive Session
URL;VALUE=URI:https://www.norwood.k12.ma.us/about/calendar/5408395/school-c
 ommittee-executive-session-hybrid
DTSTART:20240227T203000Z
DTEND:20240227T213000Z
END:VEVENT
END:VCALENDAR
