BEGIN:VCALENDAR
VERSION:2.0
PRODID:SchoolNow
CALSCALE:GREGORIAN
BEGIN:VEVENT
UID:ddf34660-d666-11ee-9544-0a58a9feac02
DTSTAMP:20240228T192113Z
SUMMARY:School Committee Executive Session - REMOTE MEETING ONLINE
URL;VALUE=URI:https://www.norwood.k12.ma.us/about/calendar/5423802/school-c
 ommittee-executive-session-clone
DTSTART:20240301T200000Z
DTEND:20240301T210000Z
END:VEVENT
END:VCALENDAR
