BEGIN:VCALENDAR
VERSION:2.0
PRODID:SchoolNow
CALSCALE:GREGORIAN
BEGIN:VEVENT
UID:2a602d5a-e1fd-11ee-9fd5-0affd6bab161
DTSTAMP:20240314T121954Z
SUMMARY:School Committee Executive Session
URL;VALUE=URI:https://www.norwood.k12.ma.us/about/calendar/5541201/school-c
 ommittee-executive-session-hybrid-clone
DTSTART:20240318T194500Z
DTEND:20240318T204500Z
END:VEVENT
END:VCALENDAR
