BEGIN:VCALENDAR
VERSION:2.0
PRODID:SchoolNow
CALSCALE:GREGORIAN
BEGIN:VEVENT
UID:38d99bd2-e1fd-11ee-aebb-025a492dd1c3
DTSTAMP:20240314T122019Z
SUMMARY:School Committee Executive Session
URL;VALUE=URI:https://www.norwood.k12.ma.us/about/calendar/5542055/school-c
 ommittee-executive-session-hybrid-clone-clone
DTSTART:20240322T173000Z
DTEND:20240322T183000Z
END:VEVENT
END:VCALENDAR
