BEGIN:VCALENDAR
VERSION:2.0
PRODID:SchoolNow
CALSCALE:GREGORIAN
BEGIN:VEVENT
UID:4a683c96-e1fd-11ee-a2bc-0a58a9feac02
DTSTAMP:20240314T122048Z
SUMMARY:School Committee Executive Session
URL;VALUE=URI:https://www.norwood.k12.ma.us/about/calendar/5542061/school-c
 ommittee-executive-session-hybrid-clone-clone-clone
DTSTART:20240404T193000Z
DTEND:20240404T203000Z
END:VEVENT
END:VCALENDAR
