BEGIN:VCALENDAR
VERSION:2.0
PRODID:SchoolNow
CALSCALE:GREGORIAN
BEGIN:VEVENT
UID:57a7dd9e-e1fd-11ee-9ce8-0a58a9feac02
DTSTAMP:20240403T183657Z
SUMMARY:School Committee Executive Session - NHS
URL;VALUE=URI:https://www.norwood.k12.ma.us/about/calendar/5542063/school-c
 ommittee-executive-session-hybrid-clone-clone-clone-clone
DTSTART:20240411T193000Z
DTEND:20240411T203000Z
END:VEVENT
END:VCALENDAR
