BEGIN:VCALENDAR
VERSION:2.0
PRODID:SchoolNow
CALSCALE:GREGORIAN
BEGIN:VEVENT
UID:79012986-e5eb-11ee-b812-0a58a9feac02
DTSTAMP:20240319T122320Z
SUMMARY:School Committee Executive Session
URL;VALUE=URI:https://www.norwood.k12.ma.us/about/calendar/5580709/school-c
 ommittee-executive-session-hybrid-clone-clone-clone-clone
DTSTART:20240322T193000Z
DTEND:20240322T203000Z
END:VEVENT
END:VCALENDAR
