BEGIN:VCALENDAR
VERSION:2.0
PRODID:SchoolNow
CALSCALE:GREGORIAN
BEGIN:VEVENT
UID:f59786a4-e7a1-11ee-8fbe-0affe7a7671f
DTSTAMP:20240321T164209Z
SUMMARY:School Committee Executive Session
URL;VALUE=URI:https://www.norwood.k12.ma.us/about/calendar/5598795/school-c
 ommittee-executive-session-hybrid-clone-clone-clone-clone-clone
DTSTART:20240325T193000Z
DTEND:20240325T203000Z
END:VEVENT
END:VCALENDAR
