BEGIN:VCALENDAR
VERSION:2.0
PRODID:SchoolNow
CALSCALE:GREGORIAN
BEGIN:VEVENT
UID:2b01c710-eb07-11ee-8263-0a58a9feac02
DTSTAMP:20240326T002411Z
SUMMARY:School Committee Executive Session
URL;VALUE=URI:https://www.norwood.k12.ma.us/about/calendar/5632013/school-c
 ommittee-executive-session-hybrid-clone-clone-clone-clone
DTSTART:20240327T223000Z
DTEND:20240327T230000Z
END:VEVENT
END:VCALENDAR
