BEGIN:VCALENDAR
VERSION:2.0
PRODID:SchoolNow
CALSCALE:GREGORIAN
BEGIN:VEVENT
UID:c38d5218-f0e5-11ee-b0a0-0a58a9feac02
DTSTAMP:20240402T114011Z
SUMMARY:School Committee Policy Sub Committee - REMOTE MEETING ONLINE
URL;VALUE=URI:https://www.norwood.k12.ma.us/about/calendar/5688701/school-c
 ommittee-policy-sub-committee-remote-meeting-online-clone-clone-clone-clon
 e-clone-clone-clone-clone-clone-clone-clone-clone-clone-clone
DTSTART:20240405T150000Z
DTEND:20240405T163000Z
END:VEVENT
END:VCALENDAR
