BEGIN:VCALENDAR
VERSION:2.0
PRODID:SchoolNow
CALSCALE:GREGORIAN
BEGIN:VEVENT
UID:3fe6381c-f1e9-11ee-82ff-025748890c9f
DTSTAMP:20240403T183739Z
SUMMARY:School Committee Executive Session - NHS
URL;VALUE=URI:https://www.norwood.k12.ma.us/about/calendar/5699509/school-c
 ommittee-executive-session-nhs
DTSTART:20240507T193000Z
DTEND:20240507T203000Z
END:VEVENT
END:VCALENDAR
