BEGIN:VCALENDAR
VERSION:2.0
PRODID:SchoolNow
CALSCALE:GREGORIAN
BEGIN:VEVENT
UID:3bd65344-f296-11ee-962b-0a58a9feac02
DTSTAMP:20240404T151555Z
SUMMARY:NPS Multilingual Family Fair
URL;VALUE=URI:https://www.norwood.k12.ma.us/about/calendar/5707996/nps-mult
 ilingual-family-fair
DTSTART:20240430T220000Z
DTEND:20240430T233000Z
ATTACH;FILENAME=Notification for Communication -ML Family Fair '24.pdf;FMTT
 YPE=application/pdf:https://campussuite-storage.s3.amazonaws.com/prod/1213
 978/583ade96-581b-11e7-99ef-124f7febbf4a/2766609/441ceed8-f295-11ee-bd69-0
 ec0eff797bf/file/Notification for Communication -ML Family Fair '24.pdf
END:VEVENT
END:VCALENDAR
