BEGIN:VCALENDAR
VERSION:2.0
PRODID:SchoolNow
CALSCALE:GREGORIAN
BEGIN:VEVENT
UID:e2a115a2-fd99-11ee-88d1-0affdac7174f
DTSTAMP:20240418T153946Z
SUMMARY:School Committee Executive Session Remote Meeting Online - Union Ne
 gotiations
URL;VALUE=URI:https://www.norwood.k12.ma.us/about/calendar/5810234/school-c
 ommittee-executive-session-nhs-clone-clone
DTSTART:20240424T223000Z
DTEND:20240424T233000Z
END:VEVENT
END:VCALENDAR
