BEGIN:VCALENDAR
VERSION:2.0
PRODID:SchoolNow
CALSCALE:GREGORIAN
BEGIN:VEVENT
UID:eccdec30-fd99-11ee-8a6c-02660c98115d
DTSTAMP:20240418T154003Z
SUMMARY:School Committee Executive Session Hybrid Meeting - Unit B Negotiat
 ions
URL;VALUE=URI:https://www.norwood.k12.ma.us/about/calendar/5810235/school-c
 ommittee-executive-session-nhs-clone
DTSTART:20240514T193000Z
DTEND:20240514T203000Z
END:VEVENT
END:VCALENDAR
