BEGIN:VCALENDAR
VERSION:2.0
PRODID:SchoolNow
CALSCALE:GREGORIAN
BEGIN:VEVENT
UID:370761e0-0638-11ef-ad5f-02178e8ad269
DTSTAMP:20240429T145318Z
SUMMARY:School Committee - Executive Session
URL;VALUE=URI:https://www.norwood.k12.ma.us/about/calendar/5880263/school-c
 ommittee-executive-session
DTSTART:20240501T223000Z
DTEND:20240501T230000Z
END:VEVENT
END:VCALENDAR
